BEGIN:VCALENDAR
VERSION:2.0
PRODID:-//321Gang LLC - ECPv6.15.11//NONSGML v1.0//EN
CALSCALE:GREGORIAN
METHOD:PUBLISH
X-ORIGINAL-URL:https://321gang.com
X-WR-CALDESC:Events for 321Gang LLC
REFRESH-INTERVAL;VALUE=DURATION:PT1H
X-Robots-Tag:noindex
X-PUBLISHED-TTL:PT1H
BEGIN:VTIMEZONE
TZID:America/Denver
BEGIN:DAYLIGHT
TZOFFSETFROM:-0700
TZOFFSETTO:-0600
TZNAME:MDT
DTSTART:20210314T090000
END:DAYLIGHT
BEGIN:STANDARD
TZOFFSETFROM:-0600
TZOFFSETTO:-0700
TZNAME:MST
DTSTART:20211107T080000
END:STANDARD
BEGIN:DAYLIGHT
TZOFFSETFROM:-0700
TZOFFSETTO:-0600
TZNAME:MDT
DTSTART:20220313T090000
END:DAYLIGHT
BEGIN:STANDARD
TZOFFSETFROM:-0600
TZOFFSETTO:-0700
TZNAME:MST
DTSTART:20221106T080000
END:STANDARD
BEGIN:DAYLIGHT
TZOFFSETFROM:-0700
TZOFFSETTO:-0600
TZNAME:MDT
DTSTART:20230312T090000
END:DAYLIGHT
BEGIN:STANDARD
TZOFFSETFROM:-0600
TZOFFSETTO:-0700
TZNAME:MST
DTSTART:20231105T080000
END:STANDARD
END:VTIMEZONE
BEGIN:VEVENT
DTSTART;TZID=America/Denver:20221020T040000
DTEND;TZID=America/Denver:20221020T050000
DTSTAMP:20260424T201447
CREATED:20220913T080933Z
LAST-MODIFIED:20220913T221833Z
UID:15899-1666238400-1666242000@321gang.com
SUMMARY:Global Configuration Management - Join us for a live Webinar!
DESCRIPTION:A few years ago\, IBM introduced the concept of Global Configuration Management (GCM) to its Collaborative Lifecycle Management (CLM) suite of integrated tools. This was a game changer for requirements management. It was not only possible to put requirements under configuration management\, but it was possible to save collections of corresponding requirement\, test\, workflow\, source\, and model artifacts in a single configuration. \nDuring this presentation we will build the case for component-based requirements management\, illustrate Global Configuration Management concepts\, and focus on various Component Usage Patterns within the context of GCM 7.0.2 and IBM’s Engineering Lifecycle (ELM) suite of tools. \nPresented by Peter Luckey | 321Gang
URL:https://321gang.com/event/global-configuration-management-the-game-changer/
LOCATION:Virtual
CATEGORIES:IBM
ATTACH;FMTTYPE=image/jpeg:https://321gang.com/wp-content/uploads/2022/09/IBM-WEBINAR-oct-20-1-2.jpg
ORGANIZER;CN="321Gang%2C Inc":MAILTO:ask@321gang.com
END:VEVENT
END:VCALENDAR