BEGIN:VCALENDAR
VERSION:2.0
PRODID:-//321Gang LLC - ECPv6.15.11//NONSGML v1.0//EN
CALSCALE:GREGORIAN
METHOD:PUBLISH
X-ORIGINAL-URL:https://321gang.com
X-WR-CALDESC:Events for 321Gang LLC
REFRESH-INTERVAL;VALUE=DURATION:PT1H
X-Robots-Tag:noindex
X-PUBLISHED-TTL:PT1H
BEGIN:VTIMEZONE
TZID:America/Denver
BEGIN:DAYLIGHT
TZOFFSETFROM:-0700
TZOFFSETTO:-0600
TZNAME:MDT
DTSTART:20200308T090000
END:DAYLIGHT
BEGIN:STANDARD
TZOFFSETFROM:-0600
TZOFFSETTO:-0700
TZNAME:MST
DTSTART:20201101T080000
END:STANDARD
BEGIN:DAYLIGHT
TZOFFSETFROM:-0700
TZOFFSETTO:-0600
TZNAME:MDT
DTSTART:20210314T090000
END:DAYLIGHT
BEGIN:STANDARD
TZOFFSETFROM:-0600
TZOFFSETTO:-0700
TZNAME:MST
DTSTART:20211107T080000
END:STANDARD
BEGIN:DAYLIGHT
TZOFFSETFROM:-0700
TZOFFSETTO:-0600
TZNAME:MDT
DTSTART:20220313T090000
END:DAYLIGHT
BEGIN:STANDARD
TZOFFSETFROM:-0600
TZOFFSETTO:-0700
TZNAME:MST
DTSTART:20221106T080000
END:STANDARD
END:VTIMEZONE
BEGIN:VEVENT
DTSTART;TZID=America/Denver:20210722T110000
DTEND;TZID=America/Denver:20210722T120000
DTSTAMP:20260425T181534
CREATED:20210304T041712Z
LAST-MODIFIED:20220215T035827Z
UID:13378-1626951600-1626955200@321gang.com
SUMMARY:Benefits of Custom Presentations | IBM Engineering Workflow Management (EWM)
DESCRIPTION:IBM Engineering Workflow Management (EWM) provides many out-of-the-box features for the customization of attributes\, attribute types\, enumerations\, presentations\, workflows\, and more. Attributes can be presented as Decimals\, Integers\, Strings\, HTML\, Small HTML\, Radio Groups\, Enumerations\, Rich Text\, Categories\, Tags\, and Work Item Lists. However\, sometimes customers may need a bit more customization to address the needs of their internal users. \nIn this session you will see an example of a non-trivial custom presentation in EWM. For our customer\, the Work Item List editor presentation was simply not enough. Even though they liked the general idea of being able to see the links to the Work Items in a Work Item List\, the customer also wanted to be able to directly (from the Work Item List) create new Work Items to add to the list and to modify several attributes of existing Work Items in the list. \nWe will walk through the process of how we work with the customer to identify and refine their need and how we implement the custom presentation.
URL:https://321gang.com/event/https-321gang-com-ibm-webinar-july22-ewm/
LOCATION:Virtual
CATEGORIES:IBM
ATTACH;FMTTYPE=image/png:https://321gang.com/wp-content/uploads/2021/06/IBM-EWM-WEBINAR-Final.png
ORGANIZER;CN="321Gang%2C Inc":MAILTO:ask@321gang.com
END:VEVENT
END:VCALENDAR