BEGIN:VCALENDAR
VERSION:2.0
PRODID:-//321Gang LLC - ECPv6.15.11//NONSGML v1.0//EN
CALSCALE:GREGORIAN
METHOD:PUBLISH
X-WR-CALNAME:321Gang LLC
X-ORIGINAL-URL:https://321gang.com
X-WR-CALDESC:Events for 321Gang LLC
REFRESH-INTERVAL;VALUE=DURATION:PT1H
X-Robots-Tag:noindex
X-PUBLISHED-TTL:PT1H
BEGIN:VTIMEZONE
TZID:America/Denver
BEGIN:DAYLIGHT
TZOFFSETFROM:-0700
TZOFFSETTO:-0600
TZNAME:MDT
DTSTART:20200308T090000
END:DAYLIGHT
BEGIN:STANDARD
TZOFFSETFROM:-0600
TZOFFSETTO:-0700
TZNAME:MST
DTSTART:20201101T080000
END:STANDARD
BEGIN:DAYLIGHT
TZOFFSETFROM:-0700
TZOFFSETTO:-0600
TZNAME:MDT
DTSTART:20210314T090000
END:DAYLIGHT
BEGIN:STANDARD
TZOFFSETFROM:-0600
TZOFFSETTO:-0700
TZNAME:MST
DTSTART:20211107T080000
END:STANDARD
BEGIN:DAYLIGHT
TZOFFSETFROM:-0700
TZOFFSETTO:-0600
TZNAME:MDT
DTSTART:20220313T090000
END:DAYLIGHT
BEGIN:STANDARD
TZOFFSETFROM:-0600
TZOFFSETTO:-0700
TZNAME:MST
DTSTART:20221106T080000
END:STANDARD
END:VTIMEZONE
BEGIN:VEVENT
DTSTART;TZID=America/Denver:20210428T110000
DTEND;TZID=America/Denver:20210428T120000
DTSTAMP:20260425T221730
CREATED:20210331T081241Z
LAST-MODIFIED:20210412T225556Z
UID:13457-1619607600-1619611200@321gang.com
SUMMARY:Tips and Tricks for Using GitLab in a Regulated Enterprise
DESCRIPTION:Regardless of your process\, GitLab provides powerful planning tools to keep everyone synchronized.\n\nTune in for our next live webinar as we dive a little deeper into our “GitLab Series”. We’ll show you how to implement and enforce your corporate governance policies around traceability for compliance\, while allowing your software teams to seamlessly work in GitLab.\n\nThis demonstration will include how to enforce the linking of code commits in GitLab to work items in Engineering Workflow Manager.  And further\, how those work items link to Requirements and Test data for compliance.\n\nPresented by 321Gang’s Joe Meagher. Joe is a tools and process consultant who works with multiple regulated industries\, and helps them\nsuccessfully meet their compliance requirements for the lowest cost possible.
URL:https://321gang.com/event/gitlab-webinar-april28/
LOCATION:Virtual
CATEGORIES:GitLab,IBM
ATTACH;FMTTYPE=image/png:https://321gang.com/wp-content/uploads/2021/04/Gitlab-Web-2-Ap28-f.png
ORGANIZER;CN="321Gang%2C Inc":MAILTO:ask@321gang.com
END:VEVENT
END:VCALENDAR